BEGIN:VCALENDAR
VERSION:2.0
PRODID:-//Godoy Cruz - ECPv4.5.8.1//NONSGML v1.0//EN
CALSCALE:GREGORIAN
METHOD:PUBLISH
X-WR-CALNAME:Godoy Cruz
X-ORIGINAL-URL:https://www.godoycruz.sisargentina.com
X-WR-CALDESC:Events for Godoy Cruz
BEGIN:VEVENT
DTSTART;TZID=UTC-3:20210320T210000
DTEND;TZID=UTC-3:20210320T210000
DTSTAMP:20260423T033514
CREATED:20210318T142855Z
LAST-MODIFIED:20210318T142855Z
UID:75879-1616274000-1616274000@www.godoycruz.sisargentina.com
SUMMARY:Semana de la memoria
DESCRIPTION:[vc_row][vc_column][vc_column_text]Lecturas de Darío Anís. \nMúsica con Dragon Rapstar. \nEntrada gratuita. Cupos limitados.[/vc_column_text][/vc_column][/vc_row][vc_row][vc_column][vc_single_image image=»75880″ img_size=»full»][/vc_column][/vc_row] \n
URL:https://www.godoycruz.sisargentina.com/evento/semana-la-memoria-2/
ATTACH;FMTTYPE=image/jpeg:https://www.godoycruz.sisargentina.com/wp-content/uploads/2021/03/WhatsApp-Image-2021-03-18-at-10.27.48.jpeg
END:VEVENT
END:VCALENDAR