BEGIN:VCALENDAR
VERSION:2.0
PRODID:-//Godoy Cruz - ECPv4.5.8.1//NONSGML v1.0//EN
CALSCALE:GREGORIAN
METHOD:PUBLISH
X-WR-CALNAME:Godoy Cruz
X-ORIGINAL-URL:https://www.godoycruz.sisargentina.com
X-WR-CALDESC:Events for Godoy Cruz
BEGIN:VEVENT
DTSTART;TZID=UTC-3:20210808T150000
DTEND;TZID=UTC-3:20210808T150000
DTSTAMP:20260422T215346
CREATED:20210804T171727Z
LAST-MODIFIED:20210804T171727Z
UID:80319-1628434800-1628434800@www.godoycruz.sisargentina.com
SUMMARY:Seek The King
DESCRIPTION:[vc_row][vc_column][vc_column_text]Se viene una nueva fecha de la competencia de Freestyle mendocina. \nHost: «Big G» y «Sonrisas». \nEntrada para público en general: $100. Competidores: $150. \nAdquirilas en la boletería del Teatro Plaza (Colón 27\, Godoy Cruz). Horario de atención: de lunes a viernes\, de 8:30 a 14:00h. \nFiltros: de 15 a 17 horas. \nEvento: de 18 a 21:30 horas. \n1º Premio: $10.000.\n1º premio:$2.000 \nCupos limitados. Se ruega puntualidad y cumplir con el protocolo sanitario. vigente.[/vc_column_text][/vc_column][/vc_row][vc_row][vc_column][vc_single_image image=»80320″ img_size=»full»][/vc_column][/vc_row] \n
URL:https://www.godoycruz.sisargentina.com/evento/seek-the-king/
LOCATION:Colón 27\, Godoy Cruz\, Mendoza\, 5501\, Argentina
ATTACH;FMTTYPE=image/jpeg:https://www.godoycruz.sisargentina.com/wp-content/uploads/2021/08/218087980_1633800843472153_526606496982654523_n.jpg
END:VEVENT
END:VCALENDAR