BEGIN:VCALENDAR
VERSION:2.0
PRODID:-//Godoy Cruz - ECPv4.5.8.1//NONSGML v1.0//EN
CALSCALE:GREGORIAN
METHOD:PUBLISH
X-WR-CALNAME:Godoy Cruz
X-ORIGINAL-URL:https://www.godoycruz.sisargentina.com
X-WR-CALDESC:Events for Godoy Cruz
BEGIN:VEVENT
DTSTART;TZID=UTC-3:20230805T210000
DTEND;TZID=UTC-3:20230805T210000
DTSTAMP:20260421T014301
CREATED:20230803T133933Z
LAST-MODIFIED:20230803T133933Z
UID:102255-1691269200-1691269200@www.godoycruz.sisargentina.com
SUMMARY:Seba Garay presenta "Ponchos al cielo"
DESCRIPTION:[vc_row][vc_column][vc_column_text]El musico Sebastián Garay presenta su espectáculo llamado «Ponchos al cielo». \nEn su nuevo concierto hará un recorrido por sus canciones más escuchadas. \nEl show contará con la presencia del pianista y productor musical Nicolás Diez. \nConseguí tu entrada online en bit.ly/EntradasPonchosAlCielo o en la B+M (Tomba 54) la noche del show.[/vc_column_text][/vc_column][/vc_row][vc_row][vc_column][vc_single_image image=»102254″ img_size=»full»][/vc_column][/vc_row] \n
URL:https://www.godoycruz.sisargentina.com/evento/seba-garay-presenta-ponchos-al-cielo/
LOCATION:Tomba 54\, Godoy Cruz\, Mendoza\, 5501\, Argentina
ATTACH;FMTTYPE=image/jpeg:https://www.godoycruz.sisargentina.com/wp-content/uploads/2023/08/WhatsApp-Image-2023-08-02-at-10.25.32-AM.jpeg
END:VEVENT
END:VCALENDAR