BEGIN:VCALENDAR
VERSION:2.0
PRODID:-//Godoy Cruz - ECPv4.5.8.1//NONSGML v1.0//EN
CALSCALE:GREGORIAN
METHOD:PUBLISH
X-WR-CALNAME:Godoy Cruz
X-ORIGINAL-URL:https://www.godoycruz.sisargentina.com
X-WR-CALDESC:Events for Godoy Cruz
BEGIN:VEVENT
DTSTART;TZID=UTC-3:20230817T210000
DTEND;TZID=UTC-3:20230817T210000
DTSTAMP:20260421T051224
CREATED:20230816T151425Z
LAST-MODIFIED:20230816T151425Z
UID:102657-1692306000-1692306000@www.godoycruz.sisargentina.com
SUMMARY:Santiago Clément - El Canario Naranja
DESCRIPTION:[vc_row][vc_column][vc_column_text]El escritor Santiago Clément presenta su nueva novela “El canario naranja” con una performance literaria. \nLuego de recibir numerosos premios y reconocimientos en concursos literarios en distintos países de habla hispana\, donde ha sido publicado en antologías y revistas literarias\, vuelve para mostrarle al público su último trabajo. \nLa obra “El canario naranja” obtuvo la selección del Fondo Provincial de Cultura de la provincia de Mendoza y la presentación se realiza en el marco de este reconocimiento. \nConseguí tu ticket online en https://bit.ly/3DWTfZ5 \nEntrada general:$1500.\nEntrada+libro:$3000.[/vc_column_text][/vc_column][/vc_row][vc_row][vc_column][vc_single_image image=»102658″ img_size=»full»][/vc_column][/vc_row] \n
URL:https://www.godoycruz.sisargentina.com/evento/santiago-clement-canario-naranja/
LOCATION:Tomba 54\, Godoy Cruz\, Mendoza\, 5501\, Argentina
ATTACH;FMTTYPE=image/jpeg:https://www.godoycruz.sisargentina.com/wp-content/uploads/2023/08/WhatsApp-Image-2023-08-16-at-10.17.28-AM.jpeg
END:VEVENT
END:VCALENDAR