BEGIN:VCALENDAR
VERSION:2.0
PRODID:-//Godoy Cruz - ECPv4.5.8.1//NONSGML v1.0//EN
CALSCALE:GREGORIAN
METHOD:PUBLISH
X-WR-CALNAME:Godoy Cruz
X-ORIGINAL-URL:https://www.godoycruz.sisargentina.com
X-WR-CALDESC:Events for Godoy Cruz
BEGIN:VEVENT
DTSTART;TZID=UTC-3:20230421T210000
DTEND;TZID=UTC-3:20230421T210000
DTSTAMP:20260421T131030
CREATED:20230413T134028Z
LAST-MODIFIED:20230413T134028Z
UID:99182-1682110800-1682110800@www.godoycruz.sisargentina.com
SUMMARY:San Vicente Jazz 15 años
DESCRIPTION:[vc_row][vc_column][vc_column_text]Llega una nueva edición del clasico festival dedicado al Jazz y sus corrientes sonoras. \nSerán 6 conciertos para disfrutar de grandes artistas de nuestro país y Chile. \nArtistas: Zequech; Lady Bren & Company; Daniel Maza Cuarteto (Buenos Aires). \nEntrada gratuita por orden de llegada (capacidad limitada).[/vc_column_text][/vc_column][/vc_row][vc_row][vc_column][vc_single_image image=»99183″ img_size=»full»][/vc_column][/vc_row] \n
URL:https://www.godoycruz.sisargentina.com/evento/san-vicente-jazz-15-anos/
ATTACH;FMTTYPE=image/jpeg:https://www.godoycruz.sisargentina.com/wp-content/uploads/2023/04/340843720_150428204641575_4399397830869323316_n.jpg
END:VEVENT
END:VCALENDAR