BEGIN:VCALENDAR
VERSION:2.0
PRODID:-//Godoy Cruz - ECPv4.5.8.1//NONSGML v1.0//EN
CALSCALE:GREGORIAN
METHOD:PUBLISH
X-WR-CALNAME:Godoy Cruz
X-ORIGINAL-URL:https://www.godoycruz.sisargentina.com
X-WR-CALDESC:Events for Godoy Cruz
BEGIN:VEVENT
DTSTART;TZID=UTC-3:20230906T210000
DTEND;TZID=UTC-3:20230906T210000
DTSTAMP:20260421T031514
CREATED:20230901T173207Z
LAST-MODIFIED:20230901T173207Z
UID:103057-1694034000-1694034000@www.godoycruz.sisargentina.com
SUMMARY:SAM presenta "Las cosas verdaderas"
DESCRIPTION:[vc_row][vc_column][vc_column_text]La banda mendocina SAM ofrecerá un recital en vivo para recorrer las canciones de su nuevo disco. \nSerá un show inmersivo y único\, lleno de invitados y sorpresas. \nAbre la noche: Verónica Lía. \nComprá tus entradas online en https://bit.ly/EntradasSam o por la boletería del Teatro Plaza (Colón 27)\, de lunes a sábado de 9 a 18H.[/vc_column_text][/vc_column][/vc_row][vc_row][vc_column][vc_single_image image=»103059″ img_size=»full»][/vc_column][/vc_row] \n
URL:https://www.godoycruz.sisargentina.com/evento/sam-presenta-las-cosas-verdaderas/
LOCATION:Colón 27\, Godoy Cruz\, Mendoza\, 5501\, Argentina
ATTACH;FMTTYPE=image/jpeg:https://www.godoycruz.sisargentina.com/wp-content/uploads/2023/09/370669138_623214166664163_6626907416397268751_n.jpg
END:VEVENT
END:VCALENDAR