BEGIN:VCALENDAR
VERSION:2.0
PRODID:-//Godoy Cruz - ECPv4.5.8.1//NONSGML v1.0//EN
CALSCALE:GREGORIAN
METHOD:PUBLISH
X-WR-CALNAME:Godoy Cruz
X-ORIGINAL-URL:https://www.godoycruz.sisargentina.com
X-WR-CALDESC:Events for Godoy Cruz
BEGIN:VEVENT
DTSTART;TZID=UTC-3:20210703T203000
DTEND;TZID=UTC-3:20210703T203000
DTSTAMP:20260422T203137
CREATED:20210628T132721Z
LAST-MODIFIED:20210628T132721Z
UID:79136-1625344200-1625344200@www.godoycruz.sisargentina.com
SUMMARY:"Rulo" Fimiani Presenta: Tributo a Eric Clapton
DESCRIPTION:[vc_row][vc_column][vc_column_text]Recital en vivo con el mejor rock y blues. \nRicardo «Rulo» Fimiani y su banda interpretan lo mejor del aclamado compositor. \nArtistas: Ricardo «Rulo» Fimiani (voz y guitarra líder)\, Didier Turello (batería)\, Santiago Rosselli (piano y Hammond)\, Loracio Munnia (bajo)\, Carlos Frites (guitarra rítmica)\, Silvina Ogalde y Cecilia Vendrazco (coros). \nEntradas en venta:\nBoletería del Teatro Plaza (Colón 27\, Godoy Cruz). Horario de atención: de lunes a viernes\, de 8:30 a 14:00h.\nVía online: https://bit.ly/EntradasRuloFimiani \nCupos limitados. Se ruega puntualidad y cumplir con el protocolo sanitario vigente.[/vc_column_text][/vc_column][/vc_row][vc_row][vc_column][vc_single_image image=»79137″ img_size=»full»][/vc_column][/vc_row] \n
URL:https://www.godoycruz.sisargentina.com/evento/rulo-fimiani-presenta-tributo-eric-clapton/
LOCATION:Colón 27\, Godoy Cruz\, Mendoza\, 5501\, Argentina
ATTACH;FMTTYPE=image/jpeg:https://www.godoycruz.sisargentina.com/wp-content/uploads/2021/06/WhatsApp-Image-2021-06-25-at-11.52.54.jpeg
END:VEVENT
END:VCALENDAR