BEGIN:VCALENDAR
VERSION:2.0
PRODID:-//Godoy Cruz - ECPv4.5.8.1//NONSGML v1.0//EN
CALSCALE:GREGORIAN
METHOD:PUBLISH
X-WR-CALNAME:Godoy Cruz
X-ORIGINAL-URL:https://www.godoycruz.sisargentina.com
X-WR-CALDESC:Events for Godoy Cruz
BEGIN:VEVENT
DTSTART;TZID=UTC-3:20190831T210000
DTEND;TZID=UTC-3:20190831T210000
DTSTAMP:20260424T055343
CREATED:20190821T150303Z
LAST-MODIFIED:20190821T150303Z
UID:61912-1567285200-1567285200@www.godoycruz.sisargentina.com
SUMMARY:Rotos de Amor
DESCRIPTION:[vc_row][vc_column][vc_column_text]La comedia más divertida y emotiva del año en gira nacional. \nDe Rafael Bruza. Dirección: Andrés Bazzalo. Producción General: Javier Faroni. \nElenco: Ricardo Hugo Arana\, Víctor Laplace\, Osvaldo Laport y Pepe Soriano. \nVenta de entradas en la boletería del Teatro Plaza y en www.1000tickets.com.ar[/vc_column_text][/vc_column][/vc_row][vc_row][vc_column][vc_single_image image=»61913″ img_size=»full»][/vc_column][/vc_row] \n
URL:https://www.godoycruz.sisargentina.com/evento/rotos-de-amor/
LOCATION:Colón 27\, Godoy Cruz\, Mendoza\, 5501\, Argentina
ATTACH;FMTTYPE=image/jpeg:https://www.godoycruz.sisargentina.com/wp-content/uploads/2019/08/ROTOS-DE-AMOR-IMAGEN-01.jpg
END:VEVENT
END:VCALENDAR