BEGIN:VCALENDAR
VERSION:2.0
PRODID:-//Godoy Cruz - ECPv4.5.8.1//NONSGML v1.0//EN
CALSCALE:GREGORIAN
METHOD:PUBLISH
X-WR-CALNAME:Godoy Cruz
X-ORIGINAL-URL:https://www.godoycruz.sisargentina.com
X-WR-CALDESC:Events for Godoy Cruz
BEGIN:VEVENT
DTSTART;TZID=UTC-3:20230617T203000
DTEND;TZID=UTC-3:20230617T203000
DTSTAMP:20260421T113446
CREATED:20230606T160150Z
LAST-MODIFIED:20230606T160150Z
UID:100721-1687033800-1687033800@www.godoycruz.sisargentina.com
SUMMARY:Rock and Food Volumen III
DESCRIPTION:[vc_row][vc_column][vc_column_text]Se viene una nueva edición de este ciclo solidario de recitales. \nShows en vivo de las bandas mendocinas “El Hijo Tenaz – Tributo Acústico a Los Redondos” y “Nico Cabrera & The Blues Family”. \nCanje de entradas en boletería del Teatro Plaza (Colón 27\, Godoy Cruz): dos alimentos no perecederos por persona. \nA beneficio de: comedor /merendero “Amar es dar” (Guaymallén).[/vc_column_text][/vc_column][/vc_row][vc_row][vc_column][vc_single_image image=»100723″ img_size=»full»][/vc_column][/vc_row] \n
URL:https://www.godoycruz.sisargentina.com/evento/rock-and-food-volumen-iii/
LOCATION:Colón 27\, Godoy Cruz\, Mendoza\, 5501\, Argentina
ATTACH;FMTTYPE=image/jpeg:https://www.godoycruz.sisargentina.com/wp-content/uploads/2023/06/WhatsApp-Image-2023-06-06-at-10.26.33-AM.jpeg
END:VEVENT
END:VCALENDAR