BEGIN:VCALENDAR
VERSION:2.0
PRODID:-//Godoy Cruz - ECPv4.5.8.1//NONSGML v1.0//EN
CALSCALE:GREGORIAN
METHOD:PUBLISH
X-WR-CALNAME:Godoy Cruz
X-ORIGINAL-URL:https://www.godoycruz.sisargentina.com
X-WR-CALDESC:Events for Godoy Cruz
BEGIN:VEVENT
DTSTART;TZID=UTC-3:20220331T210000
DTEND;TZID=UTC-3:20220331T210000
DTSTAMP:20260422T080429
CREATED:20220328T173131Z
LAST-MODIFIED:20220328T173131Z
UID:88001-1648760400-1648760400@www.godoycruz.sisargentina.com
SUMMARY:Rock and Food Volumen I
DESCRIPTION:[vc_row][vc_column][vc_column_text]Ciclo solidario de recitales. \nA beneficio del Merendero «Rincón de los niños». \nEntrada: 2 alimentos no perecederos por persona. \nCanje: boletería del Teatro Plaza (Colón 27\, Godoy Cruz). Horario: de lunes a sábado\, de 9:00 a 14:00 horas.[/vc_column_text][/vc_column][/vc_row][vc_row][vc_column][vc_single_image image=»88002″ img_size=»full»][/vc_column][/vc_row] \n
URL:https://www.godoycruz.sisargentina.com/evento/rock-and-food-volumen-i/
LOCATION:Colón 27\, Godoy Cruz\, Mendoza\, 5501\, Argentina
ATTACH;FMTTYPE=image/jpeg:https://www.godoycruz.sisargentina.com/wp-content/uploads/2022/03/277307813_288123393506577_8388443240888022481_n.jpg
END:VEVENT
END:VCALENDAR