BEGIN:VCALENDAR
VERSION:2.0
PRODID:-//Godoy Cruz - ECPv4.5.8.1//NONSGML v1.0//EN
CALSCALE:GREGORIAN
METHOD:PUBLISH
X-WR-CALNAME:Godoy Cruz
X-ORIGINAL-URL:https://www.godoycruz.sisargentina.com
X-WR-CALDESC:Events for Godoy Cruz
BEGIN:VEVENT
DTSTART;TZID=UTC-3:20231028T213000
DTEND;TZID=UTC-3:20231028T213000
DTSTAMP:20260420T220128
CREATED:20231028T160309Z
LAST-MODIFIED:20231028T160536Z
UID:104701-1698528600-1698528600@www.godoycruz.sisargentina.com
SUMMARY:Re(in)sistencia (reprogramado)
DESCRIPTION:[vc_row][vc_column][vc_column_text]Debido a las fuertes ráfagas pronosticadas en la provincia por viento zonda\, las actividades del Encuentro Nacional de Teatro en Grupo se reprograman para el día 29 de octubre.[/vc_column_text][/vc_column][/vc_row][vc_row][vc_column][vc_single_image image=»104702″ img_size=»full»][/vc_column][/vc_row] \n
URL:https://www.godoycruz.sisargentina.com/evento/reinsistencia1/
ATTACH;FMTTYPE=image/jpeg:https://www.godoycruz.sisargentina.com/wp-content/uploads/2023/10/WhatsApp-Image-2023-10-28-at-10.54.38-AM.jpeg
END:VEVENT
END:VCALENDAR