BEGIN:VCALENDAR
VERSION:2.0
PRODID:-//Godoy Cruz - ECPv4.5.8.1//NONSGML v1.0//EN
CALSCALE:GREGORIAN
METHOD:PUBLISH
X-WR-CALNAME:Godoy Cruz
X-ORIGINAL-URL:https://www.godoycruz.sisargentina.com
X-WR-CALDESC:Events for Godoy Cruz
BEGIN:VEVENT
DTSTART;TZID=UTC-3:20230429T210000
DTEND;TZID=UTC-3:20230429T210000
DTSTAMP:20260421T144430
CREATED:20230327T165629Z
LAST-MODIFIED:20230327T165629Z
UID:98676-1682802000-1682802000@www.godoycruz.sisargentina.com
SUMMARY:Reina Madre interpreta a Queen
DESCRIPTION:[vc_row][vc_column][vc_column_text]Reina Madre es el espectacular y verdadero tributo en vivo a Queen\, que recrea toda la potencia y el glamour de una de las bandas de rock más importantes de la historia. \nMúsicos: Andy Rex (Freedie Mercury)\, Agustín del Río (Brian May)\, Lucas Seoane (Roger Taylor) – Nanu Adamowicz (John Deacon)\, Niko Fernandéz ( Spike Edney). \nLas entradas se pueden obtener online en  https://bit.ly/EntradasReinaMadreQueen  o en la boletería del teatro\, de lunes a sábado de 9 a 18hs. \n[/vc_column_text][/vc_column][/vc_row][vc_row][vc_column][vc_single_image image=»98678″ img_size=»full»][/vc_column][/vc_row] \n
URL:https://www.godoycruz.sisargentina.com/evento/reina-madre-interpreta-queen/
LOCATION:Colón 27\, Godoy Cruz\, Mendoza\, 5501\, Argentina
ATTACH;FMTTYPE=image/jpeg:https://www.godoycruz.sisargentina.com/wp-content/uploads/2023/03/Raina-Madre-1.jpg
END:VEVENT
END:VCALENDAR