BEGIN:VCALENDAR
VERSION:2.0
PRODID:-//Godoy Cruz - ECPv4.5.8.1//NONSGML v1.0//EN
CALSCALE:GREGORIAN
METHOD:PUBLISH
X-WR-CALNAME:Godoy Cruz
X-ORIGINAL-URL:https://www.godoycruz.sisargentina.com
X-WR-CALDESC:Events for Godoy Cruz
BEGIN:VEVENT
DTSTART;TZID=UTC-3:20191117T210000
DTEND;TZID=UTC-3:20191117T210000
DTSTAMP:20260424T030949
CREATED:20191112T151000Z
LAST-MODIFIED:20191112T151000Z
UID:64363-1574024400-1574024400@www.godoycruz.sisargentina.com
SUMMARY:Recital de Ruben Villalobos & Drink Team
DESCRIPTION:[vc_row][vc_column][vc_column_text]Presentación del tercer disco del grupo local\, “Pastalinda Sound Machine”. \nBanda invitada: Verde Cofradía. \nAporte voluntario.[/vc_column_text][/vc_column][/vc_row][vc_row][vc_column][vc_single_image image=»64364″ img_size=»full»][/vc_column][/vc_row] \n
URL:https://www.godoycruz.sisargentina.com/evento/recital-ruben-villalobos-drink-team/
LOCATION:Tomba 54\, Godoy Cruz\, Mendoza\, 5501\, Argentina
ATTACH;FMTTYPE=image/jpeg:https://www.godoycruz.sisargentina.com/wp-content/uploads/2019/11/WhatsApp-Image-2019-11-11-at-13.26.55.jpeg
END:VEVENT
END:VCALENDAR