BEGIN:VCALENDAR
VERSION:2.0
PRODID:-//Godoy Cruz - ECPv4.5.8.1//NONSGML v1.0//EN
CALSCALE:GREGORIAN
METHOD:PUBLISH
X-WR-CALNAME:Godoy Cruz
X-ORIGINAL-URL:https://www.godoycruz.sisargentina.com
X-WR-CALDESC:Events for Godoy Cruz
BEGIN:VEVENT
DTSTART;TZID=UTC-3:20190611T210000
DTEND;TZID=UTC-3:20190611T210000
DTSTAMP:20260424T150434
CREATED:20190606T165759Z
LAST-MODIFIED:20190606T165759Z
UID:59924-1560286800-1560286800@www.godoycruz.sisargentina.com
SUMMARY:Recital de Matías Nievas
DESCRIPTION:[vc_row][vc_column][vc_column_text]Desde Barcelona llega el cantante mendocino a presentar en vivo “Olvídate”\, su 1º disco de estudio. \nVenta de entradas en boletería del Teatro Plaza (Colón 27). \n[/vc_column_text][/vc_column][/vc_row][vc_row][vc_column][vc_single_image image=»59926″ img_size=»full»][/vc_column][/vc_row] \n
URL:https://www.godoycruz.sisargentina.com/evento/recital-matias-nievas/
LOCATION:Colón 27\, Godoy Cruz\, Mendoza\, 5501\, Argentina
ATTACH;FMTTYPE=image/jpeg:https://www.godoycruz.sisargentina.com/wp-content/uploads/2019/06/Matías-Nievas-medios.jpg
END:VEVENT
END:VCALENDAR