BEGIN:VCALENDAR
VERSION:2.0
PRODID:-//Godoy Cruz - ECPv4.5.8.1//NONSGML v1.0//EN
CALSCALE:GREGORIAN
METHOD:PUBLISH
X-WR-CALNAME:Godoy Cruz
X-ORIGINAL-URL:https://www.godoycruz.sisargentina.com
X-WR-CALDESC:Events for Godoy Cruz
BEGIN:VEVENT
DTSTART;TZID=UTC-3:20230630T210000
DTEND;TZID=UTC-3:20230630T210000
DTSTAMP:20260421T083536
CREATED:20230629T174354Z
LAST-MODIFIED:20230629T174354Z
UID:101290-1688158800-1688158800@www.godoycruz.sisargentina.com
SUMMARY:Recital de Dr. Spectrum y Los Blandos
DESCRIPTION:[vc_row][vc_column][vc_column_text]Llega un nuevo concierto al Auditorio de la Biblioteca + Mediateca. \nEn esta fecha compartirán escenario las bandas Dr. Spectrum (Synth pop) y Los Blandos (Stoner rock). \nEntradas en taquilla.[/vc_column_text][/vc_column][/vc_row][vc_row][vc_column][vc_single_image image=»101291″ img_size=»full»][/vc_column][/vc_row] \n
URL:https://www.godoycruz.sisargentina.com/evento/recital-dr-spectrum-los-blandos/
LOCATION:Tomba 54\, Godoy Cruz\, Mendoza\, 5501\, Argentina
ATTACH;FMTTYPE=image/jpeg:https://www.godoycruz.sisargentina.com/wp-content/uploads/2023/06/357042080_591200793198834_3172409836222512315_n.jpg
END:VEVENT
END:VCALENDAR