BEGIN:VCALENDAR
VERSION:2.0
PRODID:-//Godoy Cruz - ECPv4.5.8.1//NONSGML v1.0//EN
CALSCALE:GREGORIAN
METHOD:PUBLISH
X-WR-CALNAME:Godoy Cruz
X-ORIGINAL-URL:https://www.godoycruz.sisargentina.com
X-WR-CALDESC:Events for Godoy Cruz
BEGIN:VEVENT
DTSTART;TZID=UTC-3:20191124T193000
DTEND;TZID=UTC-3:20191124T193000
DTSTAMP:20260424T060217
CREATED:20191122T171258Z
LAST-MODIFIED:20191122T171258Z
UID:64751-1574623800-1574623800@www.godoycruz.sisargentina.com
SUMMARY:Raúl Aballay presenta su libro “Comandante Sertal”
DESCRIPTION:[vc_row][vc_column][vc_column_text]Comentarios y lecturas de la Lic. Marcela Hurtado y narraciones de Hibrain Villalba. \nMúsica en vivo en la voz y la guitarra del autor. \nEntrada gratuita. \n[/vc_column_text][/vc_column][/vc_row][vc_row][vc_column][vc_single_image image=»64752″ img_size=»full»][/vc_column][/vc_row] \n
URL:https://www.godoycruz.sisargentina.com/evento/raul-aballay-presenta-libro-comandante-sertal/
LOCATION:Tomba 54\, Godoy Cruz\, Mendoza\, 5501\, Argentina
ATTACH;FMTTYPE=image/jpeg:https://www.godoycruz.sisargentina.com/wp-content/uploads/2019/11/WhatsApp-Image-2019-11-22-at-13.17.07-1.jpeg
END:VEVENT
END:VCALENDAR