BEGIN:VCALENDAR
VERSION:2.0
PRODID:-//Godoy Cruz - ECPv4.5.8.1//NONSGML v1.0//EN
CALSCALE:GREGORIAN
METHOD:PUBLISH
X-WR-CALNAME:Godoy Cruz
X-ORIGINAL-URL:https://www.godoycruz.sisargentina.com
X-WR-CALDESC:Events for Godoy Cruz
BEGIN:VEVENT
DTSTART;TZID=UTC-3:20240418T210000
DTEND;TZID=UTC-3:20240418T210000
DTSTAMP:20260421T104334
CREATED:20240322T144008Z
LAST-MODIFIED:20240322T144008Z
UID:108453-1713474000-1713474000@www.godoycruz.sisargentina.com
SUMMARY:Rata Blanca
DESCRIPTION:[vc_row][vc_column][vc_column_text]Llega al Teatro Plaza una de las bandas de Hard Rock más importantes de nuestro país\, para vivir una noche única. \nSobre el escenario\, todo el poderío de los músicos se une para repasar sus grandes éxitos y presentar sus nuevas canciones. \nComprá tus entradas de manera online en https://bit.ly/RataBlancaenelPlaza o en la boletería del Teatro (Colón 27\, Godoy Cruz)\, de 9 a 15H.[/vc_column_text][/vc_column][/vc_row][vc_row][vc_column][vc_single_image image=»108454″ img_size=»full»][/vc_column][/vc_row] \n
URL:https://www.godoycruz.sisargentina.com/evento/rata-blanca/
LOCATION:Colón 27\, Godoy Cruz\, Mendoza\, 5501\, Argentina
ATTACH;FMTTYPE=image/jpeg:https://www.godoycruz.sisargentina.com/wp-content/uploads/2024/03/433937221_746185084266986_5933034983563388303_n.jpg
END:VEVENT
END:VCALENDAR