BEGIN:VCALENDAR
VERSION:2.0
PRODID:-//Godoy Cruz - ECPv4.5.8.1//NONSGML v1.0//EN
CALSCALE:GREGORIAN
METHOD:PUBLISH
X-WR-CALNAME:Godoy Cruz
X-ORIGINAL-URL:https://www.godoycruz.sisargentina.com
X-WR-CALDESC:Events for Godoy Cruz
BEGIN:VEVENT
DTSTART;TZID=UTC-3:20230210T213000
DTEND;TZID=UTC-3:20230210T213000
DTSTAMP:20260421T155616
CREATED:20230120T024738Z
LAST-MODIFIED:20230120T024738Z
UID:96989-1676064600-1676064600@www.godoycruz.sisargentina.com
SUMMARY:Raly Barrionuevo en Espacio Arizu
DESCRIPTION:[vc_row][vc_column][vc_column_text]Raly Barrionuevo vuelve a Godoy Cruz con una propuesta especial «A solas y sin libretos». Abrazado a sus guitarras y sus canciones desembarca en Espacio Arizu este 10 de diciembre\, 21:30H.[/vc_column_text][/vc_column][/vc_row][vc_row][vc_column][vc_single_image image=»96990″ img_size=»full»][/vc_column][/vc_row] \n
URL:https://www.godoycruz.sisargentina.com/evento/raly-barrionuevo-espacio-arizu/
ATTACH;FMTTYPE=image/png:https://www.godoycruz.sisargentina.com/wp-content/uploads/2023/01/Raly.png
END:VEVENT
END:VCALENDAR