BEGIN:VCALENDAR
VERSION:2.0
PRODID:-//Godoy Cruz - ECPv4.5.8.1//NONSGML v1.0//EN
CALSCALE:GREGORIAN
METHOD:PUBLISH
X-WR-CALNAME:Godoy Cruz
X-ORIGINAL-URL:https://www.godoycruz.sisargentina.com
X-WR-CALDESC:Events for Godoy Cruz
BEGIN:VEVENT
DTSTART;TZID=UTC-3:20230430T200000
DTEND;TZID=UTC-3:20230430T220000
DTSTAMP:20260421T131025
CREATED:20230413T164319Z
LAST-MODIFIED:20230425T172912Z
UID:99200-1682884800-1682892000@www.godoycruz.sisargentina.com
SUMMARY:Radojka\, una comedia fríamente calculada
DESCRIPTION:[vc_row][vc_column][vc_column_text]Llega al Teatro Plaza esta desopilante obra protagonizada por Patricia Palmer y Cecilia Dopazo. \nSinópsis: Lucía llega a casa de Radojka y encuentra a Gloria con una terrible noticia: Radojka murió\, es por eso que ambas deciden mantenerla aparentemente viva en el freezer para seguir cobrando su sueldo. El plan se les empieza a complicar cuando el hijo de Radojka viaja a visitarla. \nElenco: Patricia Palmer y Cecilia Dopazo. \nDirección: Diego Rinaldi. \nLibro: Fernando Schmidt y Christian Ibarzabal. \n2 funciones: 20 y 22 hs. \nApta para mayores de 16 años. \nLas entradas se pueden obtener vía online en   https://bit.ly/EntradasRadojka o en la boletería del teatro\, de lunes a sábado de 9 a 18hs.[/vc_column_text][/vc_column][/vc_row][vc_row][vc_column][vc_single_image image=»99201″ img_size=»full»][/vc_column][/vc_row] \n
URL:https://www.godoycruz.sisargentina.com/evento/radojka-una-comedia-friamente-calculada2/
LOCATION:Colón 27\, Godoy Cruz\, Mendoza\, 5501\, Argentina
ATTACH;FMTTYPE=image/jpeg:https://www.godoycruz.sisargentina.com/wp-content/uploads/2023/04/WhatsApp-Image-2023-04-05-at-10.28.27-AM-1.jpeg
END:VEVENT
END:VCALENDAR