BEGIN:VCALENDAR
VERSION:2.0
PRODID:-//Godoy Cruz - ECPv4.5.8.1//NONSGML v1.0//EN
CALSCALE:GREGORIAN
METHOD:PUBLISH
X-WR-CALNAME:Godoy Cruz
X-ORIGINAL-URL:https://www.godoycruz.sisargentina.com
X-WR-CALDESC:Events for Godoy Cruz
BEGIN:VEVENT
DTSTART;TZID=UTC-3:20190414T183000
DTEND;TZID=UTC-3:20190414T183000
DTSTAMP:20260424T174313
CREATED:20190410T153806Z
LAST-MODIFIED:20190410T153806Z
UID:58465-1555266600-1555266600@www.godoycruz.sisargentina.com
SUMMARY:Proyecto VII
DESCRIPTION:[vc_row][vc_column][vc_column_text]Bandas Mendocinas se unen en una tarde cargada de rock. \nArtistas: “Proyecto Filadelfia” y “Alas del Mal (tributo a Riff).  \nEntradas: aporte voluntario.[/vc_column_text][/vc_column][/vc_row][vc_row][vc_column][vc_single_image image=»58466″ img_size=»full»][/vc_column][/vc_row] \n
URL:https://www.godoycruz.sisargentina.com/evento/proyecto-vii/
LOCATION:Tomba 54\, Godoy Cruz\, Mendoza\, 5501\, Argentina
ATTACH;FMTTYPE=image/jpeg:https://www.godoycruz.sisargentina.com/wp-content/uploads/2019/04/IMG-20190404-WA0002.jpg
END:VEVENT
END:VCALENDAR