BEGIN:VCALENDAR
VERSION:2.0
PRODID:-//Godoy Cruz - ECPv4.5.8.1//NONSGML v1.0//EN
CALSCALE:GREGORIAN
METHOD:PUBLISH
X-WR-CALNAME:Godoy Cruz
X-ORIGINAL-URL:https://www.godoycruz.sisargentina.com
X-WR-CALDESC:Events for Godoy Cruz
BEGIN:VEVENT
DTSTART;TZID=UTC-3:20170921T120000
DTEND;TZID=UTC-3:20170921T120000
DTSTAMP:20260426T011923
CREATED:20170908T224328Z
LAST-MODIFIED:20170908T224328Z
UID:41960-1505995200-1505995200@www.godoycruz.sisargentina.com
SUMMARY:Primavera Rock 2017
DESCRIPTION:[vc_row][vc_column][vc_column_text]3 escenarios temáticos. Espacio gastronómico. Bandas emergentes. \nRecital de Chapeca; Huge the Cara; Gauchito Club; Cuyoman y Eruca Sativa.[/vc_column_text][/vc_column][/vc_row][vc_row][vc_column][vc_single_image image=»41961″ img_size=»full»][/vc_column][/vc_row] \n
URL:https://www.godoycruz.sisargentina.com/evento/primavera-rock-2017/
ATTACH;FMTTYPE=image/jpeg:https://www.godoycruz.sisargentina.com/wp-content/uploads/2017/09/Sillon-Rojo-Alta.jpg
END:VEVENT
END:VCALENDAR