BEGIN:VCALENDAR
VERSION:2.0
PRODID:-//Godoy Cruz - ECPv4.5.8.1//NONSGML v1.0//EN
CALSCALE:GREGORIAN
METHOD:PUBLISH
X-WR-CALNAME:Godoy Cruz
X-ORIGINAL-URL:https://www.godoycruz.sisargentina.com
X-WR-CALDESC:Events for Godoy Cruz
BEGIN:VEVENT
DTSTART;TZID=UTC-3:20170915T213000
DTEND;TZID=UTC-3:20170915T213000
DTSTAMP:20260426T041004
CREATED:20170908T205931Z
LAST-MODIFIED:20170908T210417Z
UID:41915-1505511000-1505511000@www.godoycruz.sisargentina.com
SUMMARY:Primavera en Godoy Cruz. Godoy Cruz Rock & Blues
DESCRIPTION:[vc_row][vc_column][vc_column_text]Festival que reúne a grandes exponentes del género. \nRecital: Escuela de Rock Mario Mátar; Hard Blues Band; La Baturé y MANAL Javier Martínez.[/vc_column_text][/vc_column][/vc_row][vc_row][vc_column][vc_single_image image=»41916″ img_size=»full»][/vc_column][/vc_row] \n
URL:https://www.godoycruz.sisargentina.com/evento/primavera-godoy-cruz-godoy-cruz-rock-blues-3/
LOCATION:Colón 27\, Godoy Cruz\, Mendoza\, 5501\, Argentina
ATTACH;FMTTYPE=image/jpeg:https://www.godoycruz.sisargentina.com/wp-content/uploads/2017/09/Javier-Martinez-Manal.jpg
END:VEVENT
END:VCALENDAR