BEGIN:VCALENDAR
VERSION:2.0
PRODID:-//Godoy Cruz - ECPv4.5.8.1//NONSGML v1.0//EN
CALSCALE:GREGORIAN
METHOD:PUBLISH
X-WR-CALNAME:Godoy Cruz
X-ORIGINAL-URL:https://www.godoycruz.sisargentina.com
X-WR-CALDESC:Events for Godoy Cruz
BEGIN:VEVENT
DTSTART;TZID=UTC-3:20170916T110000
DTEND;TZID=UTC-3:20170916T110000
DTSTAMP:20260426T024439
CREATED:20170908T215833Z
LAST-MODIFIED:20170908T215833Z
UID:41943-1505559600-1505559600@www.godoycruz.sisargentina.com
SUMMARY:Primavera en Godoy Cruz. Festival de Food Trucks AMEGAM
DESCRIPTION:[vc_row][vc_column][vc_column_text]Feria INDI\, espectáculos artísticos\, danzas típicas.[/vc_column_text][/vc_column][/vc_row][vc_row][vc_column][vc_single_image image=»41928″ img_size=»full»][/vc_column][/vc_row] \n
URL:https://www.godoycruz.sisargentina.com/evento/primavera-godoy-cruz-festival-food-trucks-amegam-2/
END:VEVENT
END:VCALENDAR