BEGIN:VCALENDAR
VERSION:2.0
PRODID:-//Godoy Cruz - ECPv4.5.8.1//NONSGML v1.0//EN
CALSCALE:GREGORIAN
METHOD:PUBLISH
X-WR-CALNAME:Godoy Cruz
X-ORIGINAL-URL:https://www.godoycruz.sisargentina.com
X-WR-CALDESC:Events for Godoy Cruz
BEGIN:VEVENT
DTSTART;TZID=UTC-3:20170928T210000
DTEND;TZID=UTC-3:20170928T210000
DTSTAMP:20260426T013730
CREATED:20170909T002145Z
LAST-MODIFIED:20170909T002519Z
UID:42005-1506632400-1506632400@www.godoycruz.sisargentina.com
SUMMARY:Primavera en Godoy Cruz. Arco Iris Rock (volumen II)
DESCRIPTION:[vc_row][vc_column][vc_column_text]A beneficio del Centro Educativo Arco Iris y la Radio Comunitaria “El Aguaribay”. \nBandas invitadas: Cuyoman; Cerebro de Mono y Bien Sudaca.[/vc_column_text][/vc_column][/vc_row][vc_row][vc_column][vc_single_image image=»42008″ img_size=»full»][/vc_column][/vc_row] \n
URL:https://www.godoycruz.sisargentina.com/evento/primavera-godoy-cruz-arco-iris-rock-volumen-ii/
LOCATION:Colón 27\, Godoy Cruz\, Mendoza\, 5501\, Argentina
END:VEVENT
END:VCALENDAR