BEGIN:VCALENDAR
VERSION:2.0
PRODID:-//Godoy Cruz - ECPv4.5.8.1//NONSGML v1.0//EN
CALSCALE:GREGORIAN
METHOD:PUBLISH
X-WR-CALNAME:Godoy Cruz
X-ORIGINAL-URL:https://www.godoycruz.sisargentina.com
X-WR-CALDESC:Events for Godoy Cruz
BEGIN:VEVENT
DTSTART;TZID=UTC-3:20180414T210000
DTEND;TZID=UTC-3:20180414T210000
DTSTAMP:20260425T151820
CREATED:20180406T165822Z
LAST-MODIFIED:20180406T165822Z
UID:48164-1523739600-1523739600@www.godoycruz.sisargentina.com
SUMMARY:Presentación del disco Sonido Primordial
DESCRIPTION:[vc_row][vc_column][vc_column_text]El músico Yahia (Juan Lucangioli)\, con su proyecto artístico “Sufi Mantras” presenta su nuevo material\, con canciones propias y mantras de la tradición mística sufí.[/vc_column_text][/vc_column][/vc_row][vc_row][vc_column][vc_single_image image=»48165″ img_size=»full»][/vc_column][/vc_row] \n
URL:https://www.godoycruz.sisargentina.com/evento/presentacion-del-disco-sonido-primordial/
LOCATION:Tomba 54\, Godoy Cruz\, Mendoza\, 5501\, Argentina
ATTACH;FMTTYPE=image/jpeg:https://www.godoycruz.sisargentina.com/wp-content/uploads/2018/04/Yahia-Godoy-Cruz.jpg
END:VEVENT
END:VCALENDAR