BEGIN:VCALENDAR
VERSION:2.0
PRODID:-//Godoy Cruz - ECPv4.5.8.1//NONSGML v1.0//EN
CALSCALE:GREGORIAN
METHOD:PUBLISH
X-WR-CALNAME:Godoy Cruz
X-ORIGINAL-URL:https://www.godoycruz.sisargentina.com
X-WR-CALDESC:Events for Godoy Cruz
BEGIN:VEVENT
DTSTART;TZID=UTC-3:20181118T200000
DTEND;TZID=UTC-3:20181118T200000
DTSTAMP:20260425T024045
CREATED:20181113T162924Z
LAST-MODIFIED:20181113T162924Z
UID:54868-1542571200-1542571200@www.godoycruz.sisargentina.com
SUMMARY:Presentación de Brian El…$
DESCRIPTION:[vc_row][vc_column][vc_column_text]Concierto de rap. \nEntrada: aporte voluntario.[/vc_column_text][/vc_column][/vc_row][vc_row][vc_column][vc_single_image image=»54869″ img_size=»full»][/vc_column][/vc_row] \n
URL:https://www.godoycruz.sisargentina.com/evento/presentacion-de-brian-el/
LOCATION:Tomba 54\, Godoy Cruz\, Mendoza\, 5501\, Argentina
ATTACH;FMTTYPE=image/jpeg:https://www.godoycruz.sisargentina.com/wp-content/uploads/2018/11/IMG-20181113-WA0007.jpg
END:VEVENT
END:VCALENDAR