BEGIN:VCALENDAR
VERSION:2.0
PRODID:-//Godoy Cruz - ECPv4.5.8.1//NONSGML v1.0//EN
CALSCALE:GREGORIAN
METHOD:PUBLISH
X-WR-CALNAME:Godoy Cruz
X-ORIGINAL-URL:https://www.godoycruz.sisargentina.com
X-WR-CALDESC:Events for Godoy Cruz
BEGIN:VEVENT
DTSTART;TZID=UTC-3:20191019T220000
DTEND;TZID=UTC-3:20191019T220000
DTSTAMP:20260424T055434
CREATED:20191018T151932Z
LAST-MODIFIED:20191018T151932Z
UID:63867-1571522400-1571522400@www.godoycruz.sisargentina.com
SUMMARY:PowerPlay Íntimo presenta: Stone Willys
DESCRIPTION:[vc_row][vc_column][vc_column_text]La mejor experiencia Rolling Stones de Sudamérica. \nUn concierto tributo a una de las bandas más importantes del rock internacional. \nEntradas en venta en boletería del Teatro (Colón 27) y www.tuentrada.com[/vc_column_text][/vc_column][/vc_row][vc_row][vc_column][vc_single_image image=»63868″ img_size=»full»][/vc_column][/vc_row] \n
URL:https://www.godoycruz.sisargentina.com/evento/powerplay-intimo-presenta-stone-willys/
LOCATION:Colón 27\, Godoy Cruz\, Mendoza\, 5501\, Argentina
ATTACH;FMTTYPE=image/jpeg:https://www.godoycruz.sisargentina.com/wp-content/uploads/2019/10/Stone-Willys.jpg
END:VEVENT
END:VCALENDAR