BEGIN:VCALENDAR
VERSION:2.0
PRODID:-//Godoy Cruz - ECPv4.5.8.1//NONSGML v1.0//EN
CALSCALE:GREGORIAN
METHOD:PUBLISH
X-WR-CALNAME:Godoy Cruz
X-ORIGINAL-URL:https://www.godoycruz.sisargentina.com
X-WR-CALDESC:Events for Godoy Cruz
BEGIN:VEVENT
DTSTART;TZID=UTC-3:20230624T203000
DTEND;TZID=UTC-3:20230624T203000
DTSTAMP:20260421T082403
CREATED:20230608T162213Z
LAST-MODIFIED:20230608T162213Z
UID:100796-1687638600-1687638600@www.godoycruz.sisargentina.com
SUMMARY:Power AMP presenta "Homenaje a Serú Giran 30 años después".
DESCRIPTION:[vc_row][vc_column][vc_column_text]Power AMP homenajea a la histórica banda argentina\, a 30 años de su separación. \nEl espectáculo recorrerá «Serú 92″\, el último disco de la mítica agrupación porteña. \nArtistas: \nAlfredo Muñoz (bajo\, voz y programación MIDI).\nPamela Malve (saxos y flauta traversa).\nMariano Lucero (guitarra).\nMúsicos invitados: Mariana Lucero (coros)\, Leandro Muñoz (batería). \nEntrada gratuita.[/vc_column_text][/vc_column][/vc_row][vc_row][vc_column][vc_single_image image=»100797″ img_size=»full»][/vc_column][/vc_row] \n
URL:https://www.godoycruz.sisargentina.com/evento/power-amp-presenta-homenaje-seru-giran-30-anos-despues/
LOCATION:Tomba 54\, Godoy Cruz\, Mendoza\, 5501\, Argentina
ATTACH;FMTTYPE=image/jpeg:https://www.godoycruz.sisargentina.com/wp-content/uploads/2023/06/WhatsApp-Image-2023-06-07-at-10.39.42-AM.jpeg
END:VEVENT
END:VCALENDAR