BEGIN:VCALENDAR
VERSION:2.0
PRODID:-//Godoy Cruz - ECPv4.5.8.1//NONSGML v1.0//EN
CALSCALE:GREGORIAN
METHOD:PUBLISH
X-WR-CALNAME:Godoy Cruz
X-ORIGINAL-URL:https://www.godoycruz.sisargentina.com
X-WR-CALDESC:Events for Godoy Cruz
BEGIN:VEVENT
DTSTART;TZID=UTC-3:20210421T210000
DTEND;TZID=UTC-3:20210421T210000
DTSTAMP:20260423T020854
CREATED:20210408T155824Z
LAST-MODIFIED:20210408T155824Z
UID:76500-1619038800-1619038800@www.godoycruz.sisargentina.com
SUMMARY:Plaza Cinema
DESCRIPTION:[vc_row][vc_column][vc_column_text]Ciclo Plaza Cinema. \nGrandes clásicos del cine. \nPelícula: “Hannah and her sisters”. \nDir: Woody Allen. \nEntrada gratuita. Cupos limitados (por orden de llegada).[/vc_column_text][/vc_column][/vc_row][vc_row][vc_column][vc_single_image image=»76497″ img_size=»full»][/vc_column][/vc_row] \n
URL:https://www.godoycruz.sisargentina.com/evento/plaza-cinema-3/
LOCATION:Colón 27\, Godoy Cruz\, Mendoza\, 5501\, Argentina
ATTACH;FMTTYPE=image/jpeg:https://www.godoycruz.sisargentina.com/wp-content/uploads/2021/04/Plaza-Cinema-1.jpg
END:VEVENT
END:VCALENDAR