BEGIN:VCALENDAR
VERSION:2.0
PRODID:-//Godoy Cruz - ECPv4.5.8.1//NONSGML v1.0//EN
CALSCALE:GREGORIAN
METHOD:PUBLISH
X-WR-CALNAME:Godoy Cruz
X-ORIGINAL-URL:https://www.godoycruz.sisargentina.com
X-WR-CALDESC:Events for Godoy Cruz
BEGIN:VEVENT
DTSTART;TZID=UTC-3:20210513T210000
DTEND;TZID=UTC-3:20210513T210000
DTSTAMP:20260422T231717
CREATED:20210510T163918Z
LAST-MODIFIED:20210510T163918Z
UID:77487-1620939600-1620939600@www.godoycruz.sisargentina.com
SUMMARY:PIAF
DESCRIPTION:[vc_row][vc_column][vc_column_text]La banda Les Fous presenta un homenaje a la intérprete Edith Piaf. \nShow en vivo y transmisión por streaming. \nArtistas:\nMariana Troncoso (voz)\, Leandro Riolobo (guitarra y teclado)\, Bruno Riolobo (bajo y contrabajo) y Gabriel Marquet (percusión y flauta). \nMúsicos invitados: Juan Geredus (violoncello) y Marcelo Mercado (oboe). \nEntradas en venta:\nBoletería del Teatro Plaza (Colón 27\, Godoy Cruz). Horario de atención: de lunes a viernes\, de 8:30 a 14:30h.\nVía online: HTTP://bit.ly/EntradasPiaf \nCupos limitados. Se ruega puntualidad y cumplir con el protocolo sanitario vigente.[/vc_column_text][/vc_column][/vc_row][vc_row][vc_column][vc_single_image image=»77488″ img_size=»full»][/vc_column][/vc_row] \n
URL:https://www.godoycruz.sisargentina.com/evento/piaf/
LOCATION:Colón 27\, Godoy Cruz\, Mendoza\, 5501\, Argentina
ATTACH;FMTTYPE=image/jpeg:https://www.godoycruz.sisargentina.com/wp-content/uploads/2021/05/1280-x-1280.jpeg
END:VEVENT
END:VCALENDAR