BEGIN:VCALENDAR
VERSION:2.0
PRODID:-//Godoy Cruz - ECPv4.5.8.1//NONSGML v1.0//EN
CALSCALE:GREGORIAN
METHOD:PUBLISH
X-WR-CALNAME:Godoy Cruz
X-ORIGINAL-URL:https://www.godoycruz.sisargentina.com
X-WR-CALDESC:Events for Godoy Cruz
BEGIN:VEVENT
DTSTART;TZID=UTC-3:20210206T220000
DTEND;TZID=UTC-3:20210206T220000
DTSTAMP:20260423T050252
CREATED:20210125T154805Z
LAST-MODIFIED:20210125T161111Z
UID:74135-1612648800-1612648800@www.godoycruz.sisargentina.com
SUMMARY:Peteco Carabajal presenta "Volver al Ritual..."
DESCRIPTION:[vc_row][vc_column][vc_column_text]El reconocido músico argentino trae su nuevo espectáculo musical\, con la gira “Volver al ritual… Gira de los 100 pueblos”. \nEntradas en venta en www.entradaweb.com o la boletería del Teatro Plaza (Colón 27). \nHorario de atención: de lunes a viernes\, de 9 a 13hs. \nLas función se llevará a cabo con los protocolos sanitarios y de distanciamiento correspondientes.[/vc_column_text][/vc_column][/vc_row][vc_row][vc_column][vc_single_image image=»74136″ img_size=»full»][/vc_column][/vc_row] \n
URL:https://www.godoycruz.sisargentina.com/evento/peteco-carabajal-presenta-volver-al-ritual1/
LOCATION:Colón 27\, Godoy Cruz\, Mendoza\, 5501\, Argentina
ATTACH;FMTTYPE=image/jpeg:https://www.godoycruz.sisargentina.com/wp-content/uploads/2021/01/WhatsApp-Image-2021-01-25-at-10.45.03.jpeg
END:VEVENT
END:VCALENDAR