BEGIN:VCALENDAR
VERSION:2.0
PRODID:-//Godoy Cruz - ECPv4.5.8.1//NONSGML v1.0//EN
CALSCALE:GREGORIAN
METHOD:PUBLISH
X-WR-CALNAME:Godoy Cruz
X-ORIGINAL-URL:https://www.godoycruz.sisargentina.com
X-WR-CALDESC:Events for Godoy Cruz
BEGIN:VEVENT
DTSTART;TZID=UTC-3:20180210T210000
DTEND;TZID=UTC-3:20180210T210000
DTSTAMP:20260425T175602
CREATED:20180110T173013Z
LAST-MODIFIED:20180110T173013Z
UID:46055-1518296400-1518296400@www.godoycruz.sisargentina.com
SUMMARY:Peñas Cuyanas (Folklore)
DESCRIPTION:[vc_row][vc_column][vc_column_text]Artistas en vivo: Fernanda Mariel Rodríguez; Yesica Quiroga; Carlos Méndez Trio \nParticipación especial: Ballet del Club Regatas  \nParque Estación Benegas (Av. Del Trabajo y Panamericana)[/vc_column_text][/vc_column][/vc_row][vc_row][vc_column width=»1/2″][vc_single_image image=»46056″ img_size=»full»][/vc_column][vc_column width=»1/2″][vc_single_image image=»46057″ img_size=»full»][/vc_column][/vc_row][vc_row][vc_column][vc_gmaps link=»#E-8_JTNDaWZyYW1lJTIwc3JjJTNEJTIyaHR0cHMlM0ElMkYlMkZ3d3cuZ29vZ2xlLmNvbSUyRm1hcHMlMkZlbWJlZCUzRnBiJTNEJTIxMW0xOCUyMTFtMTIlMjExbTMlMjExZDY2OTUuODk0ODYzMjMxNDE0JTIxMmQtNjguODU4MDc2MTY3ODE5MTUlMjEzZC0zMi45NTIzOTcyNzk1MDgzNSUyMTJtMyUyMTFmMCUyMTJmMCUyMTNmMCUyMTNtMiUyMTFpMTAyNCUyMTJpNzY4JTIxNGYxMy4xJTIxM20zJTIxMW0yJTIxMXMweDk2N2UwYmI0MTY3M2FhZDUlMjUzQTB4NGQ2YjczZDkwZmY1ZmNhZiUyMTJzUGFycXVlJTJCRXN0YWNpb24lMkJCZW5lZ2FzJTIxNWUwJTIxM20yJTIxMXNlcy00MTklMjEyc2FyJTIxNHYxNTE1NjAzNTEwMjQ0JTIyJTIwd2lkdGglM0QlMjI0MDAlMjIlMjBoZWlnaHQlM0QlMjIzMDAlMjIlMjBmcmFtZWJvcmRlciUzRCUyMjAlMjIlMjBzdHlsZSUzRCUyMmJvcmRlciUzQTAlMjIlMjBhbGxvd2Z1bGxzY3JlZW4lM0UlM0MlMkZpZnJhbWUlM0U=»][/vc_column][/vc_row] \n
URL:https://www.godoycruz.sisargentina.com/evento/penas-cuyanas-folklore-3/
ATTACH;FMTTYPE=image/jpeg:https://www.godoycruz.sisargentina.com/wp-content/uploads/2018/01/Peñas-2.jpg
END:VEVENT
END:VCALENDAR