BEGIN:VCALENDAR
VERSION:2.0
PRODID:-//Godoy Cruz - ECPv4.5.8.1//NONSGML v1.0//EN
CALSCALE:GREGORIAN
METHOD:PUBLISH
X-WR-CALNAME:Godoy Cruz
X-ORIGINAL-URL:https://www.godoycruz.sisargentina.com
X-WR-CALDESC:Events for Godoy Cruz
BEGIN:VEVENT
DTSTART;TZID=UTC-3:20210418T200000
DTEND;TZID=UTC-3:20210418T210000
DTSTAMP:20260423T005457
CREATED:20210413T171912Z
LAST-MODIFIED:20210413T171912Z
UID:76650-1618776000-1618779600@www.godoycruz.sisargentina.com
SUMMARY:Pasado Verde presenta "Declaración de Principios"
DESCRIPTION:[vc_row][vc_column][vc_column_text]La banda local se sube al escenario para mostrar su último material discográfico. \nArtistas: Pasado Verde \nInvitados: Batos y Los Hijos del tiempo. \nHorarios: 20 horas (comienzo de función). 21 horas (apertura de puertas). \nEntradas en venta:\nBoletería del Teatro Plaza (Colón 27\, Godoy Cruz). Horario de atención: de lunes a viernes\, de 9 a 14h.\nVía Online:https://bit.ly/EntradasPasadoVerde. \nCupos limitados. Se recuerda cumplir con el protocolo sanitario y se ruega puntualidad.[/vc_column_text][/vc_column][/vc_row][vc_row][vc_column][vc_single_image image=»76644″ img_size=»full»][/vc_column][/vc_row] \n
URL:https://www.godoycruz.sisargentina.com/evento/pasado-verde-presenta-declaracion-principios-3/
LOCATION:Colón 27\, Godoy Cruz\, Mendoza\, 5501\, Argentina
ATTACH;FMTTYPE=image/jpeg:https://www.godoycruz.sisargentina.com/wp-content/uploads/2021/04/WhatsApp-Image-2021-04-09-at-15.27.41.jpeg
END:VEVENT
END:VCALENDAR