BEGIN:VCALENDAR
VERSION:2.0
PRODID:-//Godoy Cruz - ECPv4.5.8.1//NONSGML v1.0//EN
CALSCALE:GREGORIAN
METHOD:PUBLISH
X-WR-CALNAME:Godoy Cruz
X-ORIGINAL-URL:https://www.godoycruz.sisargentina.com
X-WR-CALDESC:Events for Godoy Cruz
BEGIN:VEVENT
DTSTART;TZID=UTC-3:20210508T203000
DTEND;TZID=UTC-3:20210508T203000
DTSTAMP:20260422T232143
CREATED:20210503T164825Z
LAST-MODIFIED:20210503T164825Z
UID:77221-1620505800-1620505800@www.godoycruz.sisargentina.com
SUMMARY:Ópera & Zarzuela en el Plaza
DESCRIPTION:[vc_row][vc_column][vc_column_text]Concierto de arias y dúos de óperas y clásicos de la zarzuela. \nArtistas: María Graciela Armendariz (Soprano) \nCristián Nicolás Mella (Tenor) \nLeonardo Pittella Lahoz y Julián Salcedo Elías (Piano). \nEntradas en venta:\nBoletería del Teatro Plaza (Colón 27\, Godoy Cruz). Horario de atención: de lunes a viernes\, de 8:30 a 14:30h.\nVía online: http://bit.ly/EntradasOperaZarzuela \nCupos limitados. Se ruega puntualidad y cumplir con el protocolo sanitario vigente.[/vc_column_text][/vc_column][/vc_row][vc_row][vc_column][vc_single_image image=»77224″ img_size=»full»][/vc_column][/vc_row] \n
URL:https://www.godoycruz.sisargentina.com/evento/opera-zarzuela-plaza/
LOCATION:Colón 27\, Godoy Cruz\, Mendoza\, 5501\, Argentina
ATTACH;FMTTYPE=image/jpeg:https://www.godoycruz.sisargentina.com/wp-content/uploads/2021/05/WhatsApp-Image-2021-04-26-at-11.52.35.jpeg
END:VEVENT
END:VCALENDAR