BEGIN:VCALENDAR
VERSION:2.0
PRODID:-//Godoy Cruz - ECPv4.5.8.1//NONSGML v1.0//EN
CALSCALE:GREGORIAN
METHOD:PUBLISH
X-WR-CALNAME:Godoy Cruz
X-ORIGINAL-URL:https://www.godoycruz.sisargentina.com
X-WR-CALDESC:Events for Godoy Cruz
BEGIN:VEVENT
DTSTART;TZID=UTC-3:20181103T210000
DTEND;TZID=UTC-3:20181103T210000
DTSTAMP:20260425T024543
CREATED:20181030T175622Z
LAST-MODIFIED:20181030T175622Z
UID:54438-1541278800-1541278800@www.godoycruz.sisargentina.com
SUMMARY:Omar Cyrulnik se presenta en Godoy Cruz
DESCRIPTION:[vc_row][vc_column][vc_column_text]El prestigioso músico brindará un concierto de guitarra.[/vc_column_text][/vc_column][/vc_row][vc_row][vc_column][vc_single_image image=»54439″ img_size=»full»][/vc_column][/vc_row] \n
URL:https://www.godoycruz.sisargentina.com/evento/omar-cyrulnik-se-presenta-godoy-cruz/
LOCATION:Tomba 54\, Godoy Cruz\, Mendoza\, 5501\, Argentina
ATTACH;FMTTYPE=image/jpeg:https://www.godoycruz.sisargentina.com/wp-content/uploads/2018/10/Omar-Cyrulnik-copia.jpg
END:VEVENT
END:VCALENDAR