BEGIN:VCALENDAR
VERSION:2.0
PRODID:-//Godoy Cruz - ECPv4.5.8.1//NONSGML v1.0//EN
CALSCALE:GREGORIAN
METHOD:PUBLISH
X-WR-CALNAME:Godoy Cruz
X-ORIGINAL-URL:https://www.godoycruz.sisargentina.com
X-WR-CALDESC:Events for Godoy Cruz
BEGIN:VEVENT
DTSTART;TZID=UTC-3:20190803T220000
DTEND;TZID=UTC-3:20190803T220000
DTSTAMP:20260424T085753
CREATED:20190731T002442Z
LAST-MODIFIED:20190731T002442Z
UID:61339-1564869600-1564869600@www.godoycruz.sisargentina.com
SUMMARY:Obras Electas
DESCRIPTION:[vc_row][vc_column][vc_column_text]Espectáculo de Ensemble humor musical. \nVenta de entradas a través de www.eventbrite.com.ar y en taquilla (desde las 21h.).[/vc_column_text][/vc_column][/vc_row][vc_row][vc_column][vc_single_image image=»61340″ img_size=»full»][/vc_column][/vc_row] \n
URL:https://www.godoycruz.sisargentina.com/evento/obras-electas/
LOCATION:Tomba 54\, Godoy Cruz\, Mendoza\, 5501\, Argentina
ATTACH;FMTTYPE=image/jpeg:https://www.godoycruz.sisargentina.com/wp-content/uploads/2019/07/WhatsApp-Image-2019-07-29-at-10.50.51.jpeg
END:VEVENT
END:VCALENDAR