BEGIN:VCALENDAR
VERSION:2.0
PRODID:-//Godoy Cruz - ECPv4.5.8.1//NONSGML v1.0//EN
CALSCALE:GREGORIAN
METHOD:PUBLISH
X-WR-CALNAME:Godoy Cruz
X-ORIGINAL-URL:https://www.godoycruz.sisargentina.com
X-WR-CALDESC:Events for Godoy Cruz
BEGIN:VEVENT
DTSTART;TZID=UTC-3:20221119T220000
DTEND;TZID=UTC-3:20221119T220000
DTSTAMP:20260421T185840
CREATED:20221118T150340Z
LAST-MODIFIED:20221118T150340Z
UID:95501-1668895200-1668895200@www.godoycruz.sisargentina.com
SUMMARY:Noches Grommelot - Teatro Under y de Trasnoche
DESCRIPTION:[vc_row][vc_column][vc_column_text]Se pone en marcha este festival de teatro producido por el Centro Cultural La Colombina. \nPodés disfrutar diferentes obras del panorama local y nacional. \nObra: “Nuestra señora de las nubes” (San Juan). Elenco: Donde topa. \nEntrada gratuita y salida al sombrero.[/vc_column_text][/vc_column][/vc_row][vc_row][vc_column][vc_single_image image=»95498″ img_size=»full»][/vc_column][/vc_row] \n
URL:https://www.godoycruz.sisargentina.com/evento/noches-grommelot-teatro-under-trasnoche-2/
ATTACH;FMTTYPE=image/jpeg:https://www.godoycruz.sisargentina.com/wp-content/uploads/2022/11/316084303_679947343484798_218913143847051804_n.jpg
END:VEVENT
END:VCALENDAR