BEGIN:VCALENDAR
VERSION:2.0
PRODID:-//Godoy Cruz - ECPv4.5.8.1//NONSGML v1.0//EN
CALSCALE:GREGORIAN
METHOD:PUBLISH
X-WR-CALNAME:Godoy Cruz
X-ORIGINAL-URL:https://www.godoycruz.sisargentina.com
X-WR-CALDESC:Events for Godoy Cruz
BEGIN:VEVENT
DTSTART;TZID=UTC-3:20240309T220000
DTEND;TZID=UTC-3:20240309T220000
DTSTAMP:20260420T150619
CREATED:20240229T180806Z
LAST-MODIFIED:20240229T180806Z
UID:107884-1710021600-1710021600@www.godoycruz.sisargentina.com
SUMMARY:Noche de Cine
DESCRIPTION:[vc_row][vc_column][vc_column_text]El Cineclub Stocco proyectará la película de terror “Raw” (Voraz)\, escrita y dirigida por Julia Ducournau. \nLa cinta es apta para mayores de 16 años. Narra la vida de una adolescente que estudia para ser veterinaria y desarrolla un ansia muy particular. \nEntrada gratuita.[/vc_column_text][/vc_column][/vc_row][vc_row][vc_column][vc_single_image image=»107885″ img_size=»full»][/vc_column][/vc_row] \n
URL:https://www.godoycruz.sisargentina.com/evento/noche-de-cine/
LOCATION:Tomba 54\, Godoy Cruz\, Mendoza\, 5501\, Argentina
ATTACH;FMTTYPE=image/jpeg:https://www.godoycruz.sisargentina.com/wp-content/uploads/2024/02/WhatsApp-Image-2024-02-29-at-1.37.34-PM.jpeg
END:VEVENT
END:VCALENDAR