BEGIN:VCALENDAR
VERSION:2.0
PRODID:-//Godoy Cruz - ECPv4.5.8.1//NONSGML v1.0//EN
CALSCALE:GREGORIAN
METHOD:PUBLISH
X-WR-CALNAME:Godoy Cruz
X-ORIGINAL-URL:https://www.godoycruz.sisargentina.com
X-WR-CALDESC:Events for Godoy Cruz
BEGIN:VEVENT
DTSTART;TZID=UTC-3:20230809T210000
DTEND;TZID=UTC-3:20230809T210000
DTSTAMP:20260421T013859
CREATED:20230728T171759Z
LAST-MODIFIED:20230728T171759Z
UID:102036-1691614800-1691614800@www.godoycruz.sisargentina.com
SUMMARY:No traigan Flores
DESCRIPTION:[vc_row][vc_column][vc_column_text]Llega a Godoy Cruz el espectáculo performático de la aclamada escritora Mariana Enriquez. \nNarración de textos\, imágenes y música. \nProtagonista: Mariana Enriquez. \nAlejandro Bustos: visuales con arena \nHoracio «Mono» Hurtado: contrabajo \nPodés comprar tus entradas online en https://bit.ly/EntradasMarianaEnriquez o en la boletería del teatro (solo en efectivo) de lunes a sábado\, de 9 a 18H. \n[/vc_column_text][/vc_column][/vc_row][vc_row][vc_column][vc_single_image image=»102038″ img_size=»full»][/vc_column][/vc_row] \n
URL:https://www.godoycruz.sisargentina.com/evento/no-traigan-flores/
LOCATION:Colón 27\, Godoy Cruz\, Mendoza\, 5501\, Argentina
ATTACH;FMTTYPE=image/jpeg:https://www.godoycruz.sisargentina.com/wp-content/uploads/2023/07/359792874_615920187293477_1952654129798763625_n.jpg
END:VEVENT
END:VCALENDAR