BEGIN:VCALENDAR
VERSION:2.0
PRODID:-//Godoy Cruz - ECPv4.5.8.1//NONSGML v1.0//EN
CALSCALE:GREGORIAN
METHOD:PUBLISH
X-WR-CALNAME:Godoy Cruz
X-ORIGINAL-URL:https://www.godoycruz.sisargentina.com
X-WR-CALDESC:Events for Godoy Cruz
BEGIN:VEVENT
DTSTART;TZID=UTC-3:20230806T210000
DTEND;TZID=UTC-3:20230806T210000
DTSTAMP:20260421T045632
CREATED:20230726T151620Z
LAST-MODIFIED:20230726T151620Z
UID:101942-1691355600-1691355600@www.godoycruz.sisargentina.com
SUMMARY:Nelson Martínez presenta "Cada pieza en su lugar"
DESCRIPTION:[vc_row][vc_column][vc_column_text]El cantautor mendocino de folklore presenta su nuevo espectáculo\, que lleva el título de su nuevo disco\, «Cada pieza en su lugar». \nSerá un recorrido por las canciones de su material discográfico\, con danza\, humor\, artistas y \, por supuesto\, mucha música. \nLas entradas se consiguen de manera online a través de la página web www.nelsonmartinez.com.ar o contactándose al 2616996656.[/vc_column_text][/vc_column][/vc_row][vc_row][vc_column][vc_single_image image=»101943″ img_size=»full»][/vc_column][/vc_row] \n
URL:https://www.godoycruz.sisargentina.com/evento/nelson-martinez-presenta-pieza-lugar/
LOCATION:Tomba 54\, Godoy Cruz\, Mendoza\, 5501\, Argentina
ATTACH;FMTTYPE=image/jpeg:https://www.godoycruz.sisargentina.com/wp-content/uploads/2023/07/afiche-nuevo-2.jpg
END:VEVENT
END:VCALENDAR