BEGIN:VCALENDAR
VERSION:2.0
PRODID:-//Godoy Cruz - ECPv4.5.8.1//NONSGML v1.0//EN
CALSCALE:GREGORIAN
METHOD:PUBLISH
X-WR-CALNAME:Godoy Cruz
X-ORIGINAL-URL:https://www.godoycruz.sisargentina.com
X-WR-CALDESC:Events for Godoy Cruz
BEGIN:VEVENT
DTSTART;TZID=UTC-3:20220827T210000
DTEND;TZID=UTC-3:20220827T210000
DTSTAMP:20260422T012342
CREATED:20220814T235818Z
LAST-MODIFIED:20220814T235818Z
UID:91989-1661634000-1661634000@www.godoycruz.sisargentina.com
SUMMARY:Muy 90\, el musical
DESCRIPTION:[vc_row][vc_column][vc_column_text]Estamos en el año 1999. FM Radio Garage\, dedicará el último año del siglo XX produciendo: «La última hora»\, el programa especial que seleccionará las mejores canciones de los ’90 de las diferentes estéticas musicales de la década\, que al mismo tiempo musicalizarán los vinculos personales de seis amigos en una trama típica de jóvenes “muy 90”.[/vc_column_text][/vc_column][/vc_row][vc_row][vc_column][vc_single_image image=»91990″ img_size=»full»][/vc_column][/vc_row] \n
URL:https://www.godoycruz.sisargentina.com/evento/muy-90-el-musical/
LOCATION:Colon 27\, Godoy Cruz\, Mendoza\, Argentina
ATTACH;FMTTYPE=image/jpeg:https://www.godoycruz.sisargentina.com/wp-content/uploads/2022/08/Muy-los-90.jpg
END:VEVENT
END:VCALENDAR