BEGIN:VCALENDAR
VERSION:2.0
PRODID:-//Godoy Cruz - ECPv4.5.8.1//NONSGML v1.0//EN
CALSCALE:GREGORIAN
METHOD:PUBLISH
X-WR-CALNAME:Godoy Cruz
X-ORIGINAL-URL:https://www.godoycruz.sisargentina.com
X-WR-CALDESC:Events for Godoy Cruz
BEGIN:VEVENT
DTSTART;TZID=UTC-3:20170916T210000
DTEND;TZID=UTC-3:20170916T210000
DTSTAMP:20260426T024442
CREATED:20170908T220457Z
LAST-MODIFIED:20170908T220457Z
UID:41946-1505595600-1505595600@www.godoycruz.sisargentina.com
SUMMARY:El músico Yahia (Juan Lucangioli) presenta su disco Sonido Primordial
DESCRIPTION:[vc_row][vc_column][vc_single_image image=»41948″ img_size=»full»][/vc_column][/vc_row] \n
URL:https://www.godoycruz.sisargentina.com/evento/musico-yahia-juan-lucangioli-presenta-disco-sonido-primordial/
LOCATION:Tomba 54\, Godoy Cruz\, Mendoza\, 5501\, Argentina
END:VEVENT
END:VCALENDAR