BEGIN:VCALENDAR
VERSION:2.0
PRODID:-//Godoy Cruz - ECPv4.5.8.1//NONSGML v1.0//EN
CALSCALE:GREGORIAN
METHOD:PUBLISH
X-WR-CALNAME:Godoy Cruz
X-ORIGINAL-URL:https://www.godoycruz.sisargentina.com
X-WR-CALDESC:Events for Godoy Cruz
BEGIN:VEVENT
DTSTART;TZID=UTC-3:20231006T210000
DTEND;TZID=UTC-3:20231006T210000
DTSTAMP:20260420T221921
CREATED:20231003T152103Z
LAST-MODIFIED:20231003T152103Z
UID:103929-1696626000-1696626000@www.godoycruz.sisargentina.com
SUMMARY:Música para Volar presenta Soda Sinfónico
DESCRIPTION:[vc_row][vc_column][vc_column_text]Luego de agotar entradas\, vuelve Música para Volar que interpretará «Soda Sinfónico» en una noche única llena de clásicos \nEn el concierto participarán más de 50 instrumentistas\, incluyendo banda\, orquesta con la dirección Pablo Herrero Pondal y coro polifónico. \nSerá un recorrido emotivo por canciones de toda la discografía de Soda Stereo\, banda emblemática de la historia del rock latinoamericano. \nComprá tus entradas online en https://bit.ly/3RAyA5f o en la boletería del teatro (solo efectivo)\, de lunes a sábado de 9 a 18 hs.[/vc_column_text][/vc_column][/vc_row][vc_row][vc_column][vc_single_image image=»103930″ img_size=»full»][/vc_column][/vc_row] \n
URL:https://www.godoycruz.sisargentina.com/evento/musica-volar-presenta-soda-sinfonico/
LOCATION:Colón 27\, Godoy Cruz\, Mendoza\, 5501\, Argentina
ATTACH;FMTTYPE=image/jpeg:https://www.godoycruz.sisargentina.com/wp-content/uploads/2023/10/383093430_651338563751639_4139934344701956445_n.jpg
END:VEVENT
END:VCALENDAR