BEGIN:VCALENDAR
VERSION:2.0
PRODID:-//Godoy Cruz - ECPv4.5.8.1//NONSGML v1.0//EN
CALSCALE:GREGORIAN
METHOD:PUBLISH
X-WR-CALNAME:Godoy Cruz
X-ORIGINAL-URL:https://www.godoycruz.sisargentina.com
X-WR-CALDESC:Events for Godoy Cruz
BEGIN:VEVENT
DTSTART;TZID=UTC-3:20240128T210000
DTEND;TZID=UTC-3:20240128T210000
DTSTAMP:20260420T183244
CREATED:20240124T150821Z
LAST-MODIFIED:20240124T150821Z
UID:106873-1706475600-1706475600@www.godoycruz.sisargentina.com
SUMMARY:Música en los Parques
DESCRIPTION:[vc_row][vc_column][vc_column_text]Canciones de distintos géneros y estéticas se sincronizan en esta propuesta. \nEsta fusión de estilos sonoros será una gran oportunidad para que los espectadores descubran propuestas de sello local. \nArtistas: Lucho Aberastain; Agua de Coco; Alto Festejo. \nEntrada gratuita.[/vc_column_text][/vc_column][/vc_row][vc_row][vc_column][vc_single_image image=»106874″ img_size=»full»][/vc_column][/vc_row] \n
URL:https://www.godoycruz.sisargentina.com/evento/musica-los-parques-7/
ATTACH;FMTTYPE=image/jpeg:https://www.godoycruz.sisargentina.com/wp-content/uploads/2024/01/WhatsApp-Image-2024-01-24-at-11.15.43-AM.jpeg
END:VEVENT
END:VCALENDAR