BEGIN:VCALENDAR
VERSION:2.0
PRODID:-//Godoy Cruz - ECPv4.5.8.1//NONSGML v1.0//EN
CALSCALE:GREGORIAN
METHOD:PUBLISH
X-WR-CALNAME:Godoy Cruz
X-ORIGINAL-URL:https://www.godoycruz.sisargentina.com
X-WR-CALDESC:Events for Godoy Cruz
BEGIN:VEVENT
DTSTART;TZID=UTC-3:20240121T210000
DTEND;TZID=UTC-3:20240121T210000
DTSTAMP:20260420T165226
CREATED:20240117T140305Z
LAST-MODIFIED:20240117T140305Z
UID:106742-1705870800-1705870800@www.godoycruz.sisargentina.com
SUMMARY:Música en los Parques
DESCRIPTION:[vc_row][vc_column][vc_column_text]Canciones de distintos géneros y estéticas se sincronizan en esta propuesta. \nEsta fusión de estilos sonoros será una gran oportunidad para que los espectadores descubran propuestas de sello local. \nArtistas: Carla Petrus\, Las Chicas Hacen Rock; La Banda Viajera. \nEntrada gratuita.[/vc_column_text][/vc_column][/vc_row][vc_row][vc_column][vc_single_image image=»106743″ img_size=»full»][/vc_column][/vc_row] \n
URL:https://www.godoycruz.sisargentina.com/evento/musica-los-parques-5/
ATTACH;FMTTYPE=image/jpeg:https://www.godoycruz.sisargentina.com/wp-content/uploads/2024/01/419406535_700014492216954_6724060861926299142_n.jpg
END:VEVENT
END:VCALENDAR