BEGIN:VCALENDAR
VERSION:2.0
PRODID:-//Godoy Cruz - ECPv4.5.8.1//NONSGML v1.0//EN
CALSCALE:GREGORIAN
METHOD:PUBLISH
X-WR-CALNAME:Godoy Cruz
X-ORIGINAL-URL:https://www.godoycruz.sisargentina.com
X-WR-CALDESC:Events for Godoy Cruz
BEGIN:VEVENT
DTSTART;TZID=UTC-3:20230225T210000
DTEND;TZID=UTC-3:20230225T210000
DTSTAMP:20260421T154942
CREATED:20230224T144910Z
LAST-MODIFIED:20230224T144910Z
UID:97816-1677358800-1677358800@www.godoycruz.sisargentina.com
SUMMARY:Música en los Parques
DESCRIPTION:[vc_row][vc_column][vc_column_text]Grandes músicos recorren los espacios verdes de Godoy Cruz. \nTrae tu manta\, reposera y equipo de mate y disfrutá el talento mendocino. \nMúsica en vivo: Pipi Morgui Trío\, Cuyanos’s Son y Laureano Busse. \nParque Margarita Malharro de Torres.[/vc_column_text][/vc_column][/vc_row][vc_row][vc_column][vc_single_image image=»97817″ img_size=»full»][/vc_column][/vc_row] \n
URL:https://www.godoycruz.sisargentina.com/evento/musica-los-parques-3/
ATTACH;FMTTYPE=image/jpeg:https://www.godoycruz.sisargentina.com/wp-content/uploads/2023/02/332152149_1245913386004196_2967141070815178312_n.jpg
END:VEVENT
END:VCALENDAR