BEGIN:VCALENDAR
VERSION:2.0
PRODID:-//Godoy Cruz - ECPv4.5.8.1//NONSGML v1.0//EN
CALSCALE:GREGORIAN
METHOD:PUBLISH
X-WR-CALNAME:Godoy Cruz
X-ORIGINAL-URL:https://www.godoycruz.sisargentina.com
X-WR-CALDESC:Events for Godoy Cruz
BEGIN:VEVENT
DTSTART;TZID=UTC-3:20230803T193000
DTEND;TZID=UTC-3:20230803T193000
DTSTAMP:20260421T030216
CREATED:20230801T153416Z
LAST-MODIFIED:20230801T153416Z
UID:102097-1691091000-1691091000@www.godoycruz.sisargentina.com
SUMMARY:Música en la Mediateca
DESCRIPTION:[vc_row][vc_column][vc_column_text]3 bandas mendocinas emergentes de genero alternativo se reúnen en una propuesta que no te podés perder. \nGrupos: «Parcialmente nublado»; «Tergopol Party» y «Año Sabático». \nEntradas: $500 (En taquilla de la B+M. Tomba 54).[/vc_column_text][/vc_column][/vc_row][vc_row][vc_column][vc_single_image image=»102098″ img_size=»full»][/vc_column][/vc_row] \n
URL:https://www.godoycruz.sisargentina.com/evento/musica-la-mediateca/
LOCATION:Tomba 54\, Godoy Cruz\, Mendoza\, 5501\, Argentina
ATTACH;FMTTYPE=image/jpeg:https://www.godoycruz.sisargentina.com/wp-content/uploads/2023/08/tergopol-party-mediateca-2.jpg
END:VEVENT
END:VCALENDAR