BEGIN:VCALENDAR
VERSION:2.0
PRODID:-//Godoy Cruz - ECPv4.5.8.1//NONSGML v1.0//EN
CALSCALE:GREGORIAN
METHOD:PUBLISH
X-WR-CALNAME:Godoy Cruz
X-ORIGINAL-URL:https://www.godoycruz.sisargentina.com
X-WR-CALDESC:Events for Godoy Cruz
BEGIN:VEVENT
DTSTART;TZID=UTC-3:20210401T170000
DTEND;TZID=UTC-3:20210401T170000
DTSTAMP:20260423T005620
CREATED:20210330T153947Z
LAST-MODIFIED:20210330T153947Z
UID:76267-1617296400-1617296400@www.godoycruz.sisargentina.com
SUMMARY:Música Clásica por los Caminos del Vino
DESCRIPTION:[vc_row][vc_column][vc_column_text]Conciertos al aire libre. \nEl clásico evento cultural y musical llega a Godoy Cruz. \nArtistas: Quinteto Ciudad y Sere Tango. \nCupos reducidos por protocolo. \nLas entradas para este evento se encuentran agotadas.[/vc_column_text][/vc_column][/vc_row][vc_row][vc_column][vc_single_image image=»76268″ img_size=»full»][/vc_column][/vc_row] \n
URL:https://www.godoycruz.sisargentina.com/evento/musica-clasica-los-caminos-del-vino/
ATTACH;FMTTYPE=image/jpeg:https://www.godoycruz.sisargentina.com/wp-content/uploads/2021/03/WhatsApp-Image-2021-03-29-at-09.43.33.jpeg
END:VEVENT
END:VCALENDAR