BEGIN:VCALENDAR
VERSION:2.0
PRODID:-//Godoy Cruz - ECPv4.5.8.1//NONSGML v1.0//EN
CALSCALE:GREGORIAN
METHOD:PUBLISH
X-WR-CALNAME:Godoy Cruz
X-ORIGINAL-URL:https://www.godoycruz.sisargentina.com
X-WR-CALDESC:Events for Godoy Cruz
BEGIN:VEVENT
DTSTART;TZID=UTC-3:20230402T183000
DTEND;TZID=UTC-3:20230402T183000
DTSTAMP:20260421T113921
CREATED:20230330T163757Z
LAST-MODIFIED:20230330T163757Z
UID:98804-1680460200-1680460200@www.godoycruz.sisargentina.com
SUMMARY:Música Clásica por los Caminos del Vino - XXII Edición
DESCRIPTION:[vc_row][vc_column][vc_column_text]Actuación del Coro Universitario de Mendoza. Dirección: Silvana Vallesi. \nConcierto: “Un cielo lleno de estrellas”. \nParroquia Nuestra Señora del Carmen (Don Orione. Paso de los Andes 1998). \nEntrada gratuita y por orden de llegada\, hasta agotar la capacidad del lugar.[/vc_column_text][/vc_column][/vc_row][vc_row][vc_column][vc_single_image image=»98807″ img_size=»full»][/vc_column][/vc_row] \n
URL:https://www.godoycruz.sisargentina.com/evento/musica-clasica-los-caminos-del-vino-xxii-edicion-3/
ATTACH;FMTTYPE=image/jpeg:https://www.godoycruz.sisargentina.com/wp-content/uploads/2023/03/WhatsApp-Image-2023-03-30-at-1.24.48-PM.jpeg
END:VEVENT
END:VCALENDAR