BEGIN:VCALENDAR
VERSION:2.0
PRODID:-//Godoy Cruz - ECPv4.5.8.1//NONSGML v1.0//EN
CALSCALE:GREGORIAN
METHOD:PUBLISH
X-WR-CALNAME:Godoy Cruz
X-ORIGINAL-URL:https://www.godoycruz.sisargentina.com
X-WR-CALDESC:Events for Godoy Cruz
BEGIN:VEVENT
DTSTART;TZID=UTC-3:20180328T200000
DTEND;TZID=UTC-3:20180328T200000
DTSTAMP:20260425T152735
CREATED:20180328T185850Z
LAST-MODIFIED:20180328T191237Z
UID:47971-1522267200-1522267200@www.godoycruz.sisargentina.com
SUMMARY:Música Clásica por los Caminos del Vino - XVIII Edición
DESCRIPTION:[vc_row][vc_column][vc_column_text]Coro AMICANA. Dirección: Mónica Pacheco \nParroquia San Vicente Ferrer. Lavalle 60\, Godoy Cruz. (NO REQUIERE ENTRADA)[/vc_column_text][/vc_column][/vc_row][vc_row][vc_column][vc_single_image image=»47972″ img_size=»full»][/vc_column][/vc_row][vc_row][vc_column][vc_gmaps link=»#E-8_JTNDaWZyYW1lJTIwc3JjJTNEJTIyaHR0cHMlM0ElMkYlMkZ3d3cuZ29vZ2xlLmNvbSUyRm1hcHMlMkZlbWJlZCUzRnBiJTNEJTIxMW0xOCUyMTFtMTIlMjExbTMlMjExZDMzNDguOTQ2OTA2Mjc5MjQ0NiUyMTJkLTY4Ljg0Njg5MjU4NTE5ODk5JTIxM2QtMzIuOTI2MDAwOTgwOTI3MjA2JTIxMm0zJTIxMWYwJTIxMmYwJTIxM2YwJTIxM20yJTIxMWkxMDI0JTIxMmk3NjglMjE0ZjEzLjElMjEzbTMlMjExbTIlMjExczB4OTY3ZTBiZDg2ZTYwNjdmZCUyNTNBMHg4NGFmYjY0NGMzZDA1NDUxJTIxMnNQYXJyb3F1aWElMkJTYW4lMkJWaWNlbnRlJTJCRmVycmVyJTIxNWUwJTIxM20yJTIxMXNlcy00MTklMjEyc2FyJTIxNHYxNTIyMjYzMzM2MTMxJTIyJTIwd2lkdGglM0QlMjI2MDAlMjIlMjBoZWlnaHQlM0QlMjI0NTAlMjIlMjBmcmFtZWJvcmRlciUzRCUyMjAlMjIlMjBzdHlsZSUzRCUyMmJvcmRlciUzQTAlMjIlMjBhbGxvd2Z1bGxzY3JlZW4lM0UlM0MlMkZpZnJhbWUlM0U=»][/vc_column][/vc_row] \n
URL:https://www.godoycruz.sisargentina.com/evento/musica-clasica-los-caminos-del-vino-xviii-edicion/
ATTACH;FMTTYPE=image/jpeg:https://www.godoycruz.sisargentina.com/wp-content/uploads/2018/03/IMG-20180319-WA0000.jpg
END:VEVENT
END:VCALENDAR